BEGIN:VCALENDAR
VERSION:2.0
PRODID:-//Plone.org//NONSGML plone.app.event//EN
X-WR-TIMEZONE:Europe/Berlin
BEGIN:VEVENT
SUMMARY:Conference "Nature Map of Campania"
DTSTART;TZID=GMT+0;VALUE=DATE-TIME:20180525T093000
DTEND;TZID=GMT+0;VALUE=DATE-TIME:20180525T130000
DTSTAMP;VALUE=DATE-TIME:20260423T122103Z
UID:03eec5870ecc410b868d0684435f7d0b@www.isprambiente.gov.it
CREATED;VALUE=DATE-TIME:20180511T124030Z
LAST-MODIFIED;VALUE=DATE-TIME:20181227T112705Z
LOCATION:Avellino
URL:https://www.isprambiente.gov.it/en/archive/news-and-other-events/ispra
 -news/year-2018/may/conference-nature-map-of-campania-1
END:VEVENT
END:VCALENDAR
