BEGIN:VCALENDAR
VERSION:2.0
PRODID:-//Plone.org//NONSGML plone.app.event//EN
X-WR-TIMEZONE:Europe/Berlin
BEGIN:VEVENT
SUMMARY:Empowering the Mediterranean Community: tools for ecosystem-based 
 management
DTSTART;TZID=GMT+0;VALUE=DATE-TIME:20180516T000000
DTEND;TZID=GMT+0;VALUE=DATE-TIME:20180517T000000
DTSTAMP;VALUE=DATE-TIME:20260423T092319Z
UID:a47a9b68f96348379045ee8d178f3d75@www.isprambiente.gov.it
CREATED;VALUE=DATE-TIME:20180515T142340Z
LAST-MODIFIED;VALUE=DATE-TIME:20181227T112706Z
LOCATION:Podgorica\, Montenegro
URL:https://www.isprambiente.gov.it/en/archive/news-and-other-events/ispra
 -news/year-2018/may/empowering-the-mediterranean-community-tools-for-ecosy
 stem-based-management
END:VEVENT
END:VCALENDAR
