BEGIN:VCALENDAR
VERSION:2.0
PRODID:-//Plone.org//NONSGML plone.app.event//EN
X-WR-TIMEZONE:Europe/Berlin
BEGIN:VEVENT
SUMMARY:Smart ports: sediments\, sustainability\, port activities\, works\
 , logistics
DTSTART;TZID=GMT+0;VALUE=DATE-TIME:20180522T100000
DTEND;TZID=GMT+0;VALUE=DATE-TIME:20180522T140000
DTSTAMP;VALUE=DATE-TIME:20260423T122348Z
UID:d49fcdc568984bb8b00f5782f81a07ff@www.isprambiente.gov.it
CREATED;VALUE=DATE-TIME:20180509T144424Z
DESCRIPTION:It was held today  at Palazzo Montecitorio (Sala Aldo Moro)\,
  the first preparatory event RemTech Expo 2018 related to the Coast segmen
 t. The Smart Ports project\, organized in cooperation with the associatio
 n Assoporti and Ispra\, provides targeted action in order to: spread the
  knowledge and culture of environmental protection and management of risks
  that characterize the territory\, with particular reference to coastal an
 d port system.
LAST-MODIFIED;VALUE=DATE-TIME:20181227T112705Z
LOCATION:Rome
URL:https://www.isprambiente.gov.it/en/archive/news-and-other-events/ispra
 -news/year-2018/may/smart-ports-sediments-sustainability-port-activities-w
 orks-logistics
END:VEVENT
END:VCALENDAR
