BEGIN:VCALENDAR
VERSION:2.0
PRODID:-//Plone.org//NONSGML plone.app.event//EN
X-WR-TIMEZONE:Europe/Berlin
BEGIN:VEVENT
SUMMARY:How to implement the European strategy on plastics in a circular e
 conomy
DTSTART;TZID=GMT+0;VALUE=DATE-TIME:20181107T140000
DTEND;TZID=GMT+0;VALUE=DATE-TIME:20181107T170000
DTSTAMP;VALUE=DATE-TIME:20260423T075214Z
UID:1df942a62a38489d93f6acaa84e153d0@www.isprambiente.gov.it
CREATED;VALUE=DATE-TIME:20181107T130528Z
DESCRIPTION:Fiera of Rimini\, 7 november   The European strategy on plasti
 cs in a circular economy was published on 16 January 2018. The Commission 
 states that "The strategy is part of Europe's transition towards a circula
 r economy and will also contribute to the achievement of sustainable devel
 opment targets  and industrial  strategies of UE and the maintenance of 
 global climate commitments ". There are three main issues that the strateg
 y aims to address: reduce the use of fossil fuels for the production of pl
 astic objects\, increase the recycling rate of plastic objects\, minimize 
 dispersion in the environment and especially in the seas
LAST-MODIFIED;VALUE=DATE-TIME:20190424T144121Z
LOCATION:Ecomondo - Fiera di Rimini
URL:https://www.isprambiente.gov.it/en/archive/news-and-other-events/ispra
 -news/year-2018/november/how-to-implement-the-european-strategy-on-plastic
 s-in-a-circular-economy
END:VEVENT
END:VCALENDAR
