BEGIN:VCALENDAR
VERSION:2.0
PRODID:-//Plone.org//NONSGML plone.app.event//EN
X-WR-TIMEZONE:Europe/Berlin
BEGIN:VEVENT
SUMMARY:Plastic Bluster MPAs at "Bluea Sea Land" of Mazara del Vallo
DTSTART;TZID=GMT+0;VALUE=DATE-TIME:20181004T000000
DTEND;TZID=GMT+0;VALUE=DATE-TIME:20181007T000000
DTSTAMP;VALUE=DATE-TIME:20260423T063743Z
UID:0c78361e2ee14550b6a5957ed860df02@www.isprambiente.gov.it
CREATED;VALUE=DATE-TIME:20181001T141444Z
LAST-MODIFIED;VALUE=DATE-TIME:20200511T122359Z
LOCATION:Mazara del Vallo (TP)
URL:https://www.isprambiente.gov.it/en/archive/news-and-other-events/ispra
 -news/year-2018/october/plastic-bluster-mpas-at-bluea-sea-land-of-mazara-d
 el-vallo
END:VEVENT
END:VCALENDAR
