BEGIN:VCALENDAR
VERSION:2.0
PRODID:-//Plone.org//NONSGML plone.app.event//EN
X-WR-TIMEZONE:Europe/Berlin
BEGIN:VEVENT
SUMMARY:The Natural Capital
DTSTART;TZID=GMT+0;VALUE=DATE-TIME:20181012T093000
DTEND;TZID=GMT+0;VALUE=DATE-TIME:20181012T170000
DTSTAMP;VALUE=DATE-TIME:20260423T062941Z
UID:c066a89c327741ab80b275f634eaca7b@www.isprambiente.gov.it
CREATED;VALUE=DATE-TIME:20181011T121113Z
LAST-MODIFIED;VALUE=DATE-TIME:20190204T133248Z
URL:https://www.isprambiente.gov.it/en/archive/news-and-other-events/ispra
 -news/year-2018/october/the-natural-capital
END:VEVENT
END:VCALENDAR
