BEGIN:VCALENDAR
VERSION:2.0
PRODID:-//Plone.org//NONSGML plone.app.event//EN
X-WR-TIMEZONE:Europe/Berlin
BEGIN:VEVENT
SUMMARY:XXVII exposition of sea
DTSTART;TZID=GMT+0;VALUE=DATE-TIME:20181011T000000
DTEND;TZID=GMT+0;VALUE=DATE-TIME:20181014T000000
DTSTAMP;VALUE=DATE-TIME:20260423T063017Z
UID:0a3e810dbe304b4bbd3b055936d0f9a7@www.isprambiente.gov.it
CREATED;VALUE=DATE-TIME:20181003T110032Z
LAST-MODIFIED;VALUE=DATE-TIME:20190204T133225Z
LOCATION:Cefalù
URL:https://www.isprambiente.gov.it/en/archive/news-and-other-events/ispra
 -news/year-2018/october/xxvii-exposition-of-sea
END:VEVENT
END:VCALENDAR
