BEGIN:VCALENDAR
VERSION:2.0
PRODID:-//Plone.org//NONSGML plone.app.event//EN
X-WR-TIMEZONE:Europe/Berlin
BEGIN:VEVENT
SUMMARY:Minimum Environmental Criteria and environmental geology: a pact f
 or infrastructures
DTSTART;TZID=GMT+0;VALUE=DATE-TIME:20181004T140000
DTEND;TZID=GMT+0;VALUE=DATE-TIME:20181004T173000
DTSTAMP;VALUE=DATE-TIME:20260423T092443Z
UID:90f6726288474040a7c9e38cf4488c98@www.isprambiente.gov.it
CREATED;VALUE=DATE-TIME:20180928T121651Z
LAST-MODIFIED;VALUE=DATE-TIME:20190718T114824Z
LOCATION:Piacenza
URL:https://www.isprambiente.gov.it/en/archive/news-and-other-events/ispra
 -news/year-2018/september/minimum-environmental-criteria-and-environmental
 -geology-a-pact-for-infrastructures
END:VEVENT
END:VCALENDAR
