BEGIN:VCALENDAR
VERSION:2.0
PRODID:-//Plone.org//NONSGML plone.app.event//EN
X-WR-TIMEZONE:Europe/Berlin
BEGIN:VEVENT
SUMMARY:Italian port infrastructure and its monitoring: ISPRA’s two new 
 geodatabases – Maritime Works Layout and Port Transformation Areas
DTSTART;TZID=Europe/Berlin;VALUE=DATE-TIME:20260429T090000
DTEND;TZID=Europe/Berlin;VALUE=DATE-TIME:20260429T134500
DTSTAMP;VALUE=DATE-TIME:20260421T133824Z
UID:64ba784b62a14c979d9b4b06903a6175@www.isprambiente.gov.it
CATEGORIES:evidence
CREATED;VALUE=DATE-TIME:20260331T084119Z
DESCRIPTION:On April 29\, 2026\, at 9:00 AM\, the Conference Hall of   ISP
 RA   will host the conference: “Italian Port Infrastructure and Its Moni
 toring: ISPRA’s Two New GeoDBs – Maritime Works Layout and Port Transf
 ormation Areas.”   Based on high-resolution data layers covering the ent
 ire national coastal system\, ISPRA presents and releases two new database
 s:   Maritime Works Layout (AOM)\, including the digitization and characte
 rization of all structures classified as port infrastructure\, with detail
 s on their type\, function\, and usage conditions\, their evolution over t
 ime\,   ISTAT   references\, affiliation with relevant territorial authori
 ties or administrations\, and declared or estimated berthing capacity\;   
 Port Transformation Areas (ATP)\, including the digitization and character
 ization of polygons related to obstruction (seabed occupation)\, excavatio
 n (coastal land occupation)\, and alteration (modification of natural cond
 itions within basins) for all coastal port infrastructures\, compared to p
 re-development conditions (ante operam).
LAST-MODIFIED;VALUE=DATE-TIME:20260420T074519Z
LOCATION:Rome\, ISPRA headquarter\, via Vitaliano Brancati 48
URL:https://www.isprambiente.gov.it/en/ispra-events/italian-port-infrastru
 cture-and-its-monitoring-ispra-two-new-geodatabases
END:VEVENT
BEGIN:VTIMEZONE
TZID:Europe/Berlin
X-LIC-LOCATION:Europe/Berlin
BEGIN:DAYLIGHT
DTSTART;VALUE=DATE-TIME:20260329T030000
TZNAME:CEST
TZOFFSETFROM:+0100
TZOFFSETTO:+0200
END:DAYLIGHT
END:VTIMEZONE
END:VCALENDAR
