BEGIN:VCALENDAR
VERSION:2.0
PRODID:-//Plone.org//NONSGML plone.app.event//EN
X-WR-TIMEZONE:Europe/Berlin
BEGIN:VEVENT
SUMMARY:Screening of the documentary “The Phantom Catch – The Great Pr
 oblem of Ghost Nets”
DTSTART;TZID=Europe/Berlin;VALUE=DATE-TIME:20260422T170000
DTEND;TZID=Europe/Berlin;VALUE=DATE-TIME:20260422T190000
DTSTAMP;VALUE=DATE-TIME:20260422T020306Z
UID:313cee763a664c20972fa010b7d80e2d@www.isprambiente.gov.it
CATEGORIES:highlight
CREATED;VALUE=DATE-TIME:20260401T113254Z
DESCRIPTION:The story of the   Strong Sea LIFE   project   On Wednesday\, 
 April 22\, at the   Roma Eventi Piazza di Spagna Conference Center  \, the
  documentary “  The Phantom Catch   – The Great Problem of Ghost Nets\
 ,” directed by   Igor D’India  \, will be premiered\, and the results 
 of the  Strong Sea LIFE project \, coordinated by   ISPRA  \, will be pres
 ented.   The documentary tells the story of a five-year journey involving 
 researchers and divers working to free the Mediterranean from more than 22
  tons of lost fishing gear.
LAST-MODIFIED;VALUE=DATE-TIME:20260420T074434Z
URL:https://www.isprambiente.gov.it/en/ispra-events/screening-of-the-docum
 entary-the-phantom-catch
END:VEVENT
BEGIN:VTIMEZONE
TZID:Europe/Berlin
X-LIC-LOCATION:Europe/Berlin
BEGIN:DAYLIGHT
DTSTART;VALUE=DATE-TIME:20260329T030000
TZNAME:CEST
TZOFFSETFROM:+0100
TZOFFSETTO:+0200
END:DAYLIGHT
END:VTIMEZONE
END:VCALENDAR
