BEGIN:VCALENDAR
VERSION:2.0
PRODID:-//Plone.org//NONSGML plone.app.event//EN
X-WR-TIMEZONE:Europe/Berlin
BEGIN:VEVENT
SUMMARY:Workshop “Photographic Monitoring of Landslides”
DTSTART;TZID=Europe/Berlin;VALUE=DATE-TIME:20260422T094500
DTEND;TZID=Europe/Berlin;VALUE=DATE-TIME:20260422T130000
DTSTAMP;VALUE=DATE-TIME:20260420T171212Z
UID:4bff3956415140588bd92583d8bd1f92@www.isprambiente.gov.it
CATEGORIES:evidence
CREATED;VALUE=DATE-TIME:20260330T115417Z
DESCRIPTION:The workshop will present new technologies for landslide monit
 oring\, with a focus on photomonitoring and on the results of experimental
  activities carried out by   Sapienza University of Rome   across 13 lands
 lide sites throughout the country\, within the framework of the   GeoScien
 ces IR   project\, funded by the   PNRR MUR   and coordinated by   ISPRA  
 .
LAST-MODIFIED;VALUE=DATE-TIME:20260417T164807Z
LOCATION:Rome\, sede ISPRA\, via Vitaliano Brancati 48 and online
URL:https://www.isprambiente.gov.it/en/ispra-events/workshop-photographic-
 monitoring-of-landslides
END:VEVENT
BEGIN:VTIMEZONE
TZID:Europe/Berlin
X-LIC-LOCATION:Europe/Berlin
BEGIN:DAYLIGHT
DTSTART;VALUE=DATE-TIME:20260329T030000
TZNAME:CEST
TZOFFSETFROM:+0100
TZOFFSETTO:+0200
END:DAYLIGHT
END:VTIMEZONE
END:VCALENDAR
