BEGIN:VCALENDAR
VERSION:2.0
PRODID:-//Plone.org//NONSGML plone.app.event//EN
X-WR-TIMEZONE:Europe/Berlin
BEGIN:VEVENT
SUMMARY:1st Training of the Italian initiative “C3S NCP for Italy” in 
 support of hydro-climatic and environmental monitoring and climate change 
 adaptation actions
DTSTART;TZID=Europe/Berlin;VALUE=DATE-TIME:20260219T090000
DTEND;TZID=Europe/Berlin;VALUE=DATE-TIME:20260219T130000
DTSTAMP;VALUE=DATE-TIME:20260421T230147Z
UID:ed02fc01f4a04044b992788f880ca25f@www.isprambiente.gov.it
CREATED;VALUE=DATE-TIME:20260217T103233Z
DESCRIPTION:As part of the  National Collaboration Programme C3S for Italy
  \, the first training event organized by the Italian Air Force and ISPRA 
 will take place on February 19.   The training will provide an overview of
  the products of the Copernicus Climate Change Service (C3S)\, which is de
 dicated to delivering authoritative and actionable information on past\, p
 resent\, and future climate in Europe and worldwide\, as well as on the se
 rvices currently under development within the C3S NCP for Italy initiative
 .
LAST-MODIFIED;VALUE=DATE-TIME:20260219T105203Z
LOCATION:Webinar
URL:https://www.isprambiente.gov.it/en/news/1st-training-of-the-italian-in
 itiative-ncp-for-italy
END:VEVENT
BEGIN:VTIMEZONE
TZID:Europe/Berlin
X-LIC-LOCATION:Europe/Berlin
BEGIN:STANDARD
DTSTART;VALUE=DATE-TIME:20251026T020000
TZNAME:CET
TZOFFSETFROM:+0200
TZOFFSETTO:+0100
END:STANDARD
END:VTIMEZONE
END:VCALENDAR
