BEGIN:VCALENDAR
VERSION:2.0
PRODID:-//Plone.org//NONSGML plone.app.event//EN
X-WR-TIMEZONE:Europe/Berlin
BEGIN:VEVENT
SUMMARY:“The right place for the right tree.”
DTSTART;TZID=Europe/Berlin;VALUE=DATE-TIME:20251202T090000
DTEND;TZID=Europe/Berlin;VALUE=DATE-TIME:20251202T173000
DTSTAMP;VALUE=DATE-TIME:20260420T052401Z
UID:29de68ce1938438fa4dcf1700ee1f152@www.isprambiente.gov.it
CREATED;VALUE=DATE-TIME:20251118T110623Z
DESCRIPTION:The central theme of the meeting will be an analysis of the ch
 allenges previously posed by EU regulations on arboriculture and\, more re
 cently\, by the Climate Decree and the National Recovery and Resilience Pl
 an (NRRP). Even more importantly\, it will address the challenges that wil
 l soon arise from the implementation of the Nature Restoration Law\, the i
 ncreasing occurrence of natural disturbances\, and the growing awareness o
 f the importance of trees and woodlands in Urban and Peri-urban Forests (a
 s defined by the National Public Green Strategy\, 2018).   These are propo
 sals and activities already anticipated and clearly outlined in the Nation
 al Forest Strategy and the Biodiversity Strategy\, which the national nurs
 ery sector—both public and private—must take on in order to be prepare
 d\, in an innovative and sustainable way\, for the massive future demand f
 or young plants belonging to woody flora (particularly tree and shrub spec
 ies\, but also herbaceous species)\, both native and non-native. This is e
 specially relevant given the past dismantling of public nurseries which\, 
 however\, have survived locally through excellent initiatives that can ser
 ve as a starting point\, as demonstrated by the recent success of the FOR.
 TREE NURSERY project\, carried out by Fondazione Alberitaia ETS at the pro
 posal of the CNR within the framework of the National Future Biodiversity 
 Centre.
LAST-MODIFIED;VALUE=DATE-TIME:20251212T132633Z
LOCATION:Roma\, Università Sapienza\, Dipartimento di Architettura e Prog
 etto\, Aula Magna di Piazza Borghese\, 9
URL:https://www.isprambiente.gov.it/en/news/201cthe-right-place-for-the-ri
 ght-tree.201d
END:VEVENT
BEGIN:VTIMEZONE
TZID:Europe/Berlin
X-LIC-LOCATION:Europe/Berlin
BEGIN:STANDARD
DTSTART;VALUE=DATE-TIME:20251026T020000
TZNAME:CET
TZOFFSETFROM:+0200
TZOFFSETTO:+0100
END:STANDARD
END:VTIMEZONE
END:VCALENDAR
