BEGIN:VCALENDAR
VERSION:2.0
PRODID:-//Plone.org//NONSGML plone.app.event//EN
X-WR-TIMEZONE:Europe/Berlin
BEGIN:VEVENT
SUMMARY:360° ornithology
DTSTART;TZID=Europe/Berlin;VALUE=DATE-TIME:20250305T204500
DTEND;TZID=Europe/Berlin;VALUE=DATE-TIME:20250305T223000
DTSTAMP;VALUE=DATE-TIME:20260423T152124Z
UID:643425fe28b641e888d030399b2334cd@www.isprambiente.gov.it
CREATED;VALUE=DATE-TIME:20250303T144428Z
DESCRIPTION:The meeting\, organized by MUSE of Trento\, will be an opportu
 nity to raise awareness of the fascinating world of birds that populate th
 e Italian skies\, the secrets revealed thanks to new technologies and the 
 latest ornithological studies.
LAST-MODIFIED;VALUE=DATE-TIME:20250306T154425Z
LOCATION:MUSE – Museo delle Scienze di Trento
URL:https://www.isprambiente.gov.it/en/news/360deg-ornithology
END:VEVENT
BEGIN:VTIMEZONE
TZID:Europe/Berlin
X-LIC-LOCATION:Europe/Berlin
BEGIN:STANDARD
DTSTART;VALUE=DATE-TIME:20241027T020000
TZNAME:CET
TZOFFSETFROM:+0200
TZOFFSETTO:+0100
END:STANDARD
END:VTIMEZONE
END:VCALENDAR
