BEGIN:VCALENDAR
VERSION:2.0
PRODID:-//Plone.org//NONSGML plone.app.event//EN
X-WR-TIMEZONE:Europe/Berlin
BEGIN:VEVENT
SUMMARY:3rd National Summit on the Economy of the Sea - Blue Forum
DTSTART;VALUE=DATE:20240410
DTEND;VALUE=DATE:20240414
DTSTAMP;VALUE=DATE-TIME:20260423T185911Z
UID:ee538ff155504ffe856151b3c8fcb6cf@www.isprambiente.gov.it
CREATED;VALUE=DATE-TIME:20240403T085939Z
DESCRIPTION:Investing in the Sea Economy   At the 3rd National Summit on t
 he Economy of the Sea Blue Forum in Gaeta from 10 to 13 April 2024\, Natio
 nal Sea Day will be celebrated. Four days of work with all the stakeholder
 s of the sea and national and European politics with the aim of sharing an
  Italian investment program for 2025-2027 on the Sea Economy\, with its ow
 n Action Plan and providing contributions to the future Connected to the S
 ea and on the Blue Economy. Starting from the Sea Plan and the implementat
 ion proposals\, the drafting of the 2024 Blue Paper will begin.
LAST-MODIFIED;VALUE=DATE-TIME:20240410T102645Z
URL:https://www.isprambiente.gov.it/en/news/3rd-national-summit-on-the-eco
 nomy-of-the-sea-blue-forum
END:VEVENT
END:VCALENDAR
