BEGIN:VCALENDAR
VERSION:2.0
PRODID:-//Plone.org//NONSGML plone.app.event//EN
X-WR-TIMEZONE:Europe/Berlin
BEGIN:VEVENT
SUMMARY:49th Session of the Scientific Groups of the London Convention and
  20th Session of the Scientific Groups of the London Protocol
DTSTART;VALUE=DATE:20260302
DTEND;VALUE=DATE:20260307
DTSTAMP;VALUE=DATE-TIME:20260421T153508Z
UID:38456cf04da044268354f10573fd0a84@www.isprambiente.gov.it
CREATED;VALUE=DATE-TIME:20260331T143058Z
DESCRIPTION:The 49th joint session of the Scientific Groups of the   Londo
 n Convention   and the 20th session of the Scientific Groups of the   Lond
 on Protocol   took place at the headquarters of the   International Mariti
 me Organization   in   London   from March 2 to 6\, 2026. The session was 
 chaired by   Cristian Mugnai   in his role as Chair\, and was attended by 
 experts from   ISPRA   both in person and remotely.
LAST-MODIFIED;VALUE=DATE-TIME:20260331T143116Z
LOCATION:London
URL:https://www.isprambiente.gov.it/en/news/49th-session-of-the-scientific
 -groups-of-the-london-convention
END:VEVENT
END:VCALENDAR
