BEGIN:VCALENDAR
VERSION:2.0
PRODID:-//Plone.org//NONSGML plone.app.event//EN
X-WR-TIMEZONE:Europe/Berlin
BEGIN:VEVENT
SUMMARY:A delegation from Montenegro in ISPRA for a TAIEX Study Visit (24-
 26 March 2026)
DTSTART;VALUE=DATE:20260324
DTEND;VALUE=DATE:20260327
DTSTAMP;VALUE=DATE-TIME:20260420T154153Z
UID:54b45e0050e44c9ab38f6c0ce97e2dd7@www.isprambiente.gov.it
CREATED;VALUE=DATE-TIME:20260327T125858Z
DESCRIPTION:A three-day study visit concluded on March 26 for a delegation
  from Montenegro composed of officials and environmental inspectors from t
 he Ministry of Ecology\, Sustainable Development\, and Northern Region Dev
 elopment of Montenegro\, as well as the Environmental Protection Agency.  
  The meeting was organized within the framework of the European Commission
 's TAIEX technical assistance financing instrument. The focus of Montenegr
 o's study visit is on issues related to the Environmental Liability Direct
 ive (ELD) and the prevention and remediation of environmental damage\, wit
 h particular emphasis on inspection activities and relevant Italian experi
 ences.
LAST-MODIFIED;VALUE=DATE-TIME:20260327T191102Z
URL:https://www.isprambiente.gov.it/en/news/a-delegation-from-montenegro-i
 n-ispra-for-a-taiex-study-visit-24-26-march-2026
END:VEVENT
END:VCALENDAR
