BEGIN:VCALENDAR
VERSION:2.0
PRODID:-//Plone.org//NONSGML plone.app.event//EN
X-WR-TIMEZONE:Europe/Berlin
BEGIN:VEVENT
SUMMARY:Bio-AT – Biodiversity and scientific research in the Tuscan Arch
 ipelago
DTSTART;VALUE=DATE:20250527
DTEND;VALUE=DATE:20250529
DTSTAMP;VALUE=DATE-TIME:20260423T134641Z
UID:0d4719f248b241379b5f92976eac529f@www.isprambiente.gov.it
CREATED;VALUE=DATE-TIME:20250522T143528Z
DESCRIPTION:On the occasion of the celebrations that in the month of May p
 ut the Parks\, biodiversity and the environment at the centre of national 
 and international attention\, the Tuscan Archipelago National Park is prom
 oting an important scientific and institutional event: "bioAT - Biodiversi
 ty and scientific research in the Tuscan Archipelago"\, scheduled for 27 a
 nd 28 May at the headquarters of the Park Authority\, in the Enfola area o
 f ​​Portoferraio.
LAST-MODIFIED;VALUE=DATE-TIME:20250522T143544Z
LOCATION:Parco Nazionale Arcipelago Toscano – Loc. Enfola\, Portoferraio
URL:https://www.isprambiente.gov.it/en/news/bio-at-2013-biodiversity-and-s
 cientific-research-in-the-tuscan-archipelago
END:VEVENT
END:VCALENDAR
