BEGIN:VCALENDAR
VERSION:2.0
PRODID:-//Plone.org//NONSGML plone.app.event//EN
X-WR-TIMEZONE:Europe/Berlin
BEGIN:VEVENT
SUMMARY:Bioeconomy Changemakers Festival
DTSTART;VALUE=DATE:20240311
DTEND;VALUE=DATE:20240316
DTSTAMP;VALUE=DATE-TIME:20260423T004235Z
UID:f19388c4a076462a8d37a32baebcfc69@www.isprambiente.gov.it
CREATED;VALUE=DATE-TIME:20240219T161517Z
DESCRIPTION:From 11 to 17 March 2024\, the European Commission organized t
 he  Bioeconomy Changemakers Festival \, a week of events on the bioeconomy
  to make young people more aware of the ecological and sustainable transit
 ion\, and involve them personally as actors of change.  APRE   and   FV
 A New Media Research   with the   GenB project  \,   ScienzaInsieme  \,
   and    Cluster   SPRING  \,  will organize the Italian satellite eve
 nt “Bioeconomy Changemakers Festival – Rome Edition”.
LAST-MODIFIED;VALUE=DATE-TIME:20240326T111718Z
URL:https://www.isprambiente.gov.it/en/news/bioeconomy-changemakers-festiv
 al
END:VEVENT
END:VCALENDAR
