BEGIN:VCALENDAR
VERSION:2.0
PRODID:-//Plone.org//NONSGML plone.app.event//EN
X-WR-TIMEZONE:Europe/Berlin
BEGIN:VEVENT
SUMMARY:By-products: problems and opportunities
DTSTART;TZID=Europe/Berlin;VALUE=DATE-TIME:20240208T103000
DTEND;TZID=Europe/Berlin;VALUE=DATE-TIME:20240208T133000
DTSTAMP;VALUE=DATE-TIME:20260425T195141Z
UID:c69cdbd84a924a9bb0d2eeb9659bbbd9@www.isprambiente.gov.it
CATEGORIES:evidence
CREATED;VALUE=DATE-TIME:20240110T074115Z
DESCRIPTION:The conference aims to analyze\, also considering the latest n
 ews\, the legislation - European\, national and regional - and jurispruden
 ce regarding by-products. The circular economy promotes\, among other thin
 gs\, the reduction of waste and therefore also the valorisation of by-prod
 ucts. It should take place in environmentally safe conditions so as not to
  disqualify the use of by-products and also not to become an instrumental 
 shortcut to cut waste management costs and to generate unfair competition 
 with industrial waste recycling activities.
LAST-MODIFIED;VALUE=DATE-TIME:20240216T083628Z
LOCATION:Milano
URL:https://www.isprambiente.gov.it/en/news/by-products-problems-and-oppor
 tunities
END:VEVENT
BEGIN:VTIMEZONE
TZID:Europe/Berlin
X-LIC-LOCATION:Europe/Berlin
BEGIN:STANDARD
DTSTART;VALUE=DATE-TIME:20231029T020000
TZNAME:CET
TZOFFSETFROM:+0200
TZOFFSETTO:+0100
END:STANDARD
END:VTIMEZONE
END:VCALENDAR
