BEGIN:VCALENDAR
VERSION:2.0
PRODID:-//Plone.org//NONSGML plone.app.event//EN
X-WR-TIMEZONE:Europe/Berlin
BEGIN:VEVENT
SUMMARY:Comparison on the implementation of the National Guidelines for th
 e conservation of Mediterranean trout and its habitat
DTSTART;TZID=Europe/Berlin;VALUE=DATE-TIME:20250408T093000
DTEND;TZID=Europe/Berlin;VALUE=DATE-TIME:20250408T130000
DTSTAMP;VALUE=DATE-TIME:20260423T074236Z
UID:9a9f130a673348808807009a783910f8@www.isprambiente.gov.it
CREATED;VALUE=DATE-TIME:20250402T112959Z
DESCRIPTION:On April 8\, a meeting planned by the  LIFE STREAMS Project  w
 ill take place at the “Catasta Pollino” Center in Morano Calabro (CS)\
 , in the Pollino National Park Authority\, to verify the implementation of
  the Guidelines for the conservation of Mediterranean trout and its habita
 t (Action C.5 – ISPRA Manuals and Guidelines 207/2024)\, in person or on
 line.
LAST-MODIFIED;VALUE=DATE-TIME:20250423T083848Z
LOCATION:Morano calabro (CS)\, Catasta Pollino
URL:https://www.isprambiente.gov.it/en/news/comparison-on-the-implementati
 on-of-the-national-guidelines
END:VEVENT
BEGIN:VTIMEZONE
TZID:Europe/Berlin
X-LIC-LOCATION:Europe/Berlin
BEGIN:DAYLIGHT
DTSTART;VALUE=DATE-TIME:20250330T030000
TZNAME:CEST
TZOFFSETFROM:+0100
TZOFFSETTO:+0200
END:DAYLIGHT
END:VTIMEZONE
END:VCALENDAR
