BEGIN:VCALENDAR
VERSION:2.0
PRODID:-//Plone.org//NONSGML plone.app.event//EN
X-WR-TIMEZONE:Europe/Berlin
BEGIN:VEVENT
SUMMARY:Enhanced Transparency Framework in the whole of Paris agreement
DTSTART;VALUE=DATE:20251120
DTEND;VALUE=DATE:20251121
DTSTAMP;VALUE=DATE-TIME:20260422T034237Z
UID:bf3c7b49de8942c4bc878cef9949a4d0@www.isprambiente.gov.it
CREATED;VALUE=DATE-TIME:20251118T124336Z
DESCRIPTION:ISPRA is participating in COP30\, providing scientific support
  to Italian institutions in international climate negotiations and organiz
 ing\, on November 20\, at the Italian Pavilion “Made for Our Future\,”
  the event “Strengthening the Enhanced Transparency Framework under the 
 Paris Agreement”\, dedicated to climate transparency within the Paris Ag
 reement.   The initiative explores the strategic role of the Enhanced Tran
 sparency Framework (ETF) in monitoring and reporting countries’ progress
  on climate action\, featuring contributions from representatives of UNFCC
 C\, ICAT\, and ISPRA\, as well as presentations of concrete examples of in
 ternational cooperation\, such as the Holy See and Cuba.
LAST-MODIFIED;VALUE=DATE-TIME:20251121T101216Z
LOCATION:Padiglione Italiano “Made for Our Future”\, COP30 di Belem
URL:https://www.isprambiente.gov.it/en/news/enhanced-transparency-framewor
 k-in-the-whole-of-paris-agreement
END:VEVENT
END:VCALENDAR
