BEGIN:VCALENDAR
VERSION:2.0
PRODID:-//Plone.org//NONSGML plone.app.event//EN
X-WR-TIMEZONE:Europe/Berlin
BEGIN:VEVENT
SUMMARY:Environmental crimes
DTSTART;VALUE=DATE:20241001
DTEND;VALUE=DATE:20241002
DTSTAMP;VALUE=DATE-TIME:20260420T182126Z
UID:f04c17e1f8e54401b658581c8f2a9882@www.isprambiente.gov.it
CREATED;VALUE=DATE-TIME:20240919T145126Z
DESCRIPTION:The topic of "environmental crimes" will be addressed during a
  conference organized by the University of Naples "Parthenope" in collabor
 ation with the Regional Environmental Protection Agency of Campania (Arpac
 ) and the Italian Biologists Foundation (Fib). The event will provide the 
 opportunity to delve into current issues such as the fight against eco-cri
 mes\, the "weight" of environmental violations (ecomafias)\, the managemen
 t of landfills and reclamation\, the relationships between organized crime
  and businesses\, the eco-crime of the Sarno river and other topics.
LAST-MODIFIED;VALUE=DATE-TIME:20241001T130022Z
LOCATION:Napoli
URL:https://www.isprambiente.gov.it/en/news/environmental-crimes-1
END:VEVENT
END:VCALENDAR
