BEGIN:VCALENDAR
VERSION:2.0
PRODID:-//Plone.org//NONSGML plone.app.event//EN
X-WR-TIMEZONE:Europe/Berlin
BEGIN:VEVENT
SUMMARY:European Ocean Days 2026 - The Role of Data in Ocean Health
DTSTART;VALUE=DATE:20260303
DTEND;VALUE=DATE:20260304
DTSTAMP;VALUE=DATE-TIME:20260421T153546Z
UID:f5af01c747b3446ba1c4bb372f17e5d2@www.isprambiente.gov.it
CREATED;VALUE=DATE-TIME:20260306T195826Z
DESCRIPTION:On 3 March in Brussels\, as part of the European Ocean Days 20
 26\, the session “Marine Knowledge for Ocean Health” took place\, focu
 sing on the role of ocean observations and marine data in supporting the p
 rotection of marine ecosystems.   For ISPRA\, researcher Francesca Catini 
 took part in the “Ocean Observation” panel\, which was dedicated to th
 e governance and coordination of ocean observation systems in Europe.
LAST-MODIFIED;VALUE=DATE-TIME:20260306T195830Z
LOCATION:Bruxelles
URL:https://www.isprambiente.gov.it/en/news/european-ocean-days-2026-the-r
 ole-of-data-in-ocean-health
END:VEVENT
END:VCALENDAR
