BEGIN:VCALENDAR
VERSION:2.0
PRODID:-//Plone.org//NONSGML plone.app.event//EN
X-WR-TIMEZONE:Europe/Berlin
BEGIN:VEVENT
SUMMARY:Extreme water events and indigenous populations
DTSTART;VALUE=DATE:20240520
DTEND;VALUE=DATE:20240521
DTSTAMP;VALUE=DATE-TIME:20260423T074855Z
UID:71e871f503b9402c98f6cfb3e095548a@www.isprambiente.gov.it
CREATED;VALUE=DATE-TIME:20240520T090315Z
DESCRIPTION:How can knowledge support climate adaptation measures?   On th
 e occasion of the 10th World Water Forum in Bali\, the Water4All pavilion 
 hosts on 20 May 2024 the collateral event organized as part of the  SD-WIS
 HEES  project\, of which ISPRA is a partner\, dedicated to the theme of ex
 treme water events and their impact on cultural and natural heritage. The 
 project partners will discuss with experts from the populations of the are
 as affected by erosion\, floods or drought on innovation paths useful for 
 climate adaptation and on the topic of removing investment barriers in thi
 s sector.
LAST-MODIFIED;VALUE=DATE-TIME:20240520T104241Z
LOCATION:Bali-Indonesia
URL:https://www.isprambiente.gov.it/en/news/extreme-water-events-and-indig
 enous-populations
END:VEVENT
END:VCALENDAR
