BEGIN:VCALENDAR
VERSION:2.0
PRODID:-//Plone.org//NONSGML plone.app.event//EN
X-WR-TIMEZONE:Europe/Berlin
BEGIN:VEVENT
SUMMARY:Far Festival 2025
DTSTART;VALUE=DATE:20250508
DTEND;VALUE=DATE:20250512
DTSTAMP;VALUE=DATE-TIME:20260423T074125Z
UID:723e083ce34743c1b076341575acf044@www.isprambiente.gov.it
CREATED;VALUE=DATE-TIME:20250507T090720Z
DESCRIPTION:From 8 to 11 May\, the first edition of FarFEST will be held a
 t the Nazzano Tevere-Farfa Regional Nature Reserve: 4 days dedicated to ec
 ology\, sustainability and biodiversity in the Nazzano Tevere Farfa Reserv
 e.
LAST-MODIFIED;VALUE=DATE-TIME:20250507T090724Z
LOCATION:Nazzano (RM)\, Riserva Naturale Tevere-Farfa
URL:https://www.isprambiente.gov.it/en/news/far-festival-2025
END:VEVENT
END:VCALENDAR
