BEGIN:VCALENDAR
VERSION:2.0
PRODID:-//Plone.org//NONSGML plone.app.event//EN
X-WR-TIMEZONE:Europe/Berlin
BEGIN:VEVENT
SUMMARY:Festival Planet Earth
DTSTART;VALUE=DATE:20251002
DTEND;VALUE=DATE:20251006
DTSTAMP;VALUE=DATE-TIME:20260423T185145Z
UID:701494b2860d4031a92b9ed63af27204@www.isprambiente.gov.it
CREATED;VALUE=DATE-TIME:20250917T081715Z
DESCRIPTION:Pianeta Terra Festival  is an event for all who wish to explor
 e our extraordinary common home and reflect on ways to preserve and inhabi
 t it sustainably. It is a multidisciplinary event: we will discuss ecosyst
 ems\, climate\, new economic models\, energy\, agriculture\, food\, urban 
 development\, as well as new political\, social\, philosophical\, anthropo
 logical\, and artistic visions.
LAST-MODIFIED;VALUE=DATE-TIME:20251003T114726Z
LOCATION:Lucca
URL:https://www.isprambiente.gov.it/en/news/festival-planet-earth
END:VEVENT
END:VCALENDAR
