BEGIN:VCALENDAR
VERSION:2.0
PRODID:-//Plone.org//NONSGML plone.app.event//EN
X-WR-TIMEZONE:Europe/Berlin
BEGIN:VEVENT
SUMMARY:Final conference “LIFE STREAMS Project: Safeguarding the Mediter
 ranean trout and its habitat”
DTSTART;TZID=Europe/Berlin;VALUE=DATE-TIME:20260428T090000
DTEND;TZID=Europe/Berlin;VALUE=DATE-TIME:20260428T163000
DTSTAMP;VALUE=DATE-TIME:20260421T220833Z
UID:5cde92968a8045278ad661ae48fb9208@www.isprambiente.gov.it
CREATED;VALUE=DATE-TIME:20260421T145141Z
DESCRIPTION:The Mediterranean trout\, a native species at critical risk of
  extinction\, is a symbol of freshwater conservation in the Apennines and 
 Sardinia. Its protection is essential for biodiversity\, which is threaten
 ed by climate change and hybridization with non-native trout.   The  LIFE 
 STREAMS  project has worked on the recovery and conservation of native po
 pulations through monitoring and management\, strengthening their numbers 
 and genetic integrity. It also represents a key component of the   APE –
  Appennino Parco d’Europa   strategy\, launched in the 1990s to support 
 the then-emerging network of protected areas.
LAST-MODIFIED;VALUE=DATE-TIME:20260421T145218Z
LOCATION:Rome\, Spazio Sette Libreria - Via dei Barbieri 7
URL:https://www.isprambiente.gov.it/en/news/final-conference-life-streams-
 project-safeguarding-the-mediterranean-trout
END:VEVENT
BEGIN:VTIMEZONE
TZID:Europe/Berlin
X-LIC-LOCATION:Europe/Berlin
BEGIN:DAYLIGHT
DTSTART;VALUE=DATE-TIME:20260329T030000
TZNAME:CEST
TZOFFSETFROM:+0100
TZOFFSETTO:+0200
END:DAYLIGHT
END:VTIMEZONE
END:VCALENDAR
