BEGIN:VCALENDAR
VERSION:2.0
PRODID:-//Plone.org//NONSGML plone.app.event//EN
X-WR-TIMEZONE:Europe/Berlin
BEGIN:VEVENT
SUMMARY:Flood\, landslide and drought emergencies: the role of Naturalisti
 c Engineering and NBS - Nature Based Solutions
DTSTART;TZID=Europe/Berlin;VALUE=DATE-TIME:20240516T103000
DTEND;TZID=Europe/Berlin;VALUE=DATE-TIME:20240516T160000
DTSTAMP;VALUE=DATE-TIME:20260423T062105Z
UID:9a01b95c01314d7e837d07ae44612c75@www.isprambiente.gov.it
CREATED;VALUE=DATE-TIME:20240429T105205Z
DESCRIPTION:"For effective results\, interoperability is required\, integr
 ated interventions are necessary and naturalistic engineering is an import
 ant partner in a path towards correct territorial planning" - said the ISP
 RA DG\, Maria Siclari\, who spoke today at the workshop organized by AIPIN
  and ISPRA on the topic of hydrogeological instability and climate change 
 as contributing causes of the frequent emergencies\, the serious damage an
 d the numerous victims that are recorded every year. "Knowledge plays a fu
 ndamental role: ISPRA has registered 622 thousand landslides\, 2/3 of the 
 European context\, Rendis 25 thousand interventions\, 30% of which fall on
  the Natura 2000 network. Without scientifically validated data\, useful i
 nterventions for the mitigation of the hydrogeological risk" - added the D
 irector General.   During the conference\, the topic of Nature-based solut
 ions was also addressed\, in English Nature Based Solutions - NBS\, soluti
 ons aimed at the restoration\, recovery or protection of natural processes
  to protect ecosystems and biodiversity\, with advantages also for human w
 ell-being\, are winners. European and national strategies and programmes\,
  also supported by the National Recovery and Resilience Plan (PNRR)\, go i
 n this direction.    Program     Video
LAST-MODIFIED;VALUE=DATE-TIME:20240517T100048Z
LOCATION:Rome\, ISPRA headquarter\, via Vitaliano Brancati 48
URL:https://www.isprambiente.gov.it/en/news/flood-landslide-and-drought-em
 ergencies-the-role-of-naturalistic-engineering-and-nbs-nature-based-soluti
 ons
END:VEVENT
BEGIN:VTIMEZONE
TZID:Europe/Berlin
X-LIC-LOCATION:Europe/Berlin
BEGIN:DAYLIGHT
DTSTART;VALUE=DATE-TIME:20240331T030000
TZNAME:CEST
TZOFFSETFROM:+0100
TZOFFSETTO:+0200
END:DAYLIGHT
END:VTIMEZONE
END:VCALENDAR
