BEGIN:VCALENDAR
VERSION:2.0
PRODID:-//Plone.org//NONSGML plone.app.event//EN
X-WR-TIMEZONE:Europe/Berlin
BEGIN:VEVENT
SUMMARY:Former wild animals in the city
DTSTART;TZID=Europe/Berlin;VALUE=DATE-TIME:20260422T150000
DTEND;TZID=Europe/Berlin;VALUE=DATE-TIME:20260422T170000
DTSTAMP;VALUE=DATE-TIME:20260421T220737Z
UID:03453cd5caca4466a01f870bc3dda415@www.isprambiente.gov.it
CREATED;VALUE=DATE-TIME:20260421T145510Z
DESCRIPTION:We are increasingly hearing about the presence—often describ
 ed as “invasions”—of wild animals in urban areas\, both non-native a
 nd native species. Even animals that once lived undisturbed in their natur
 al ecosystems have begun to move deeper into and settle within cities\, dr
 iven by the reduction of available natural habitats and changes in behavio
 r related to food searching. We have invited experts in the field who will
  offer insights and points for reflection on this phenomenon.
LAST-MODIFIED;VALUE=DATE-TIME:20260421T145514Z
LOCATION:Webinar
URL:https://www.isprambiente.gov.it/en/news/former-wild-animals-in-the-cit
 y
END:VEVENT
BEGIN:VTIMEZONE
TZID:Europe/Berlin
X-LIC-LOCATION:Europe/Berlin
BEGIN:DAYLIGHT
DTSTART;VALUE=DATE-TIME:20260329T030000
TZNAME:CEST
TZOFFSETFROM:+0100
TZOFFSETTO:+0200
END:DAYLIGHT
END:VTIMEZONE
END:VCALENDAR
