BEGIN:VCALENDAR
VERSION:2.0
PRODID:-//Plone.org//NONSGML plone.app.event//EN
X-WR-TIMEZONE:Europe/Berlin
BEGIN:VEVENT
SUMMARY:From Emergency to Prevention: Territorial Safety as a National Mis
 sion
DTSTART;TZID=Europe/Berlin;VALUE=DATE-TIME:20260312T093000
DTEND;TZID=Europe/Berlin;VALUE=DATE-TIME:20260312T130000
DTSTAMP;VALUE=DATE-TIME:20260421T153318Z
UID:0a88bfe61a0a4d079d29ff47ed69d5ea@www.isprambiente.gov.it
CREATED;VALUE=DATE-TIME:20260311T092937Z
DESCRIPTION:The Parliamentary Commission of Inquiry on Hydrogeological and
  Seismic Risk in the Italian Territory is organizing the conference “Fro
 m Emergency to Prevention: Territorial Safety as a National Mission” on 
 12 March.   During the panel “Fragile Italy: Data\, Knowledge and New Mo
 nitoring Tools. Vulnerability\, Interventions and Prevention\,” ISPRA Pr
 esident Maria Alessandra Gallone will speak.
LAST-MODIFIED;VALUE=DATE-TIME:20260313T083721Z
LOCATION:Rome\, Chambers of Deputy and Web TV
URL:https://www.isprambiente.gov.it/en/news/from-emergency-to-prevention-t
 erritorial-safety-as-a-national-mission
END:VEVENT
BEGIN:VTIMEZONE
TZID:Europe/Berlin
X-LIC-LOCATION:Europe/Berlin
BEGIN:STANDARD
DTSTART;VALUE=DATE-TIME:20251026T020000
TZNAME:CET
TZOFFSETFROM:+0200
TZOFFSETTO:+0100
END:STANDARD
END:VTIMEZONE
END:VCALENDAR
