BEGIN:VCALENDAR
VERSION:2.0
PRODID:-//Plone.org//NONSGML plone.app.event//EN
X-WR-TIMEZONE:Europe/Berlin
BEGIN:VEVENT
SUMMARY:Geopolitics and Rare Earths. Politics\, Economics and Finance Refl
 ect on the Future: Between Risks and Opportuniti
DTSTART;TZID=Europe/Berlin;VALUE=DATE-TIME:20260317T093000
DTEND;TZID=Europe/Berlin;VALUE=DATE-TIME:20260317T123000
DTSTAMP;VALUE=DATE-TIME:20260421T153514Z
UID:a682d8c773ba4ad6917c4958851dbf9c@www.isprambiente.gov.it
CREATED;VALUE=DATE-TIME:20260311T092613Z
DESCRIPTION:On Tuesday\, 17 March 2026\, the conference “Geopolitics and
  Rare Earths. Politics\, Economics and Finance Reflect on the Future: Betw
 een Risks and Opportunities” will take place in Milan\, at the Auditoriu
 m Giorgio Squinzi of Assolombarda. The event will examine the topic from m
 ultiple perspectives: political and international relations\, economic and
  diplomatic dynamics\, industrial production\, investments and financial m
 arkets\, with the aim of formulating appeals and proposals addressed to th
 e government and institutions.
LAST-MODIFIED;VALUE=DATE-TIME:20260311T092635Z
LOCATION:Milano
URL:https://www.isprambiente.gov.it/en/news/geopolitics-and-rare-earths-po
 litics-economics-and-finance
END:VEVENT
BEGIN:VTIMEZONE
TZID:Europe/Berlin
X-LIC-LOCATION:Europe/Berlin
BEGIN:STANDARD
DTSTART;VALUE=DATE-TIME:20251026T020000
TZNAME:CET
TZOFFSETFROM:+0200
TZOFFSETTO:+0100
END:STANDARD
END:VTIMEZONE
END:VCALENDAR
