BEGIN:VCALENDAR
VERSION:2.0
PRODID:-//Plone.org//NONSGML plone.app.event//EN
X-WR-TIMEZONE:Europe/Berlin
BEGIN:VEVENT
SUMMARY:Green Book 2025 - Data on waste management in Italy
DTSTART;VALUE=DATE:20250529
DTEND;VALUE=DATE:20250530
DTSTAMP;VALUE=DATE-TIME:20260420T182927Z
UID:1f01e56447444475a13f7f59053f9bb8@www.isprambiente.gov.it
CREATED;VALUE=DATE-TIME:20250506T091647Z
DESCRIPTION:The Green Book is the reference monograph for the urban waste 
 sector in Italy. The 2025 edition offers the usual contextual overview\, r
 anging from regulatory aspects to tariffs\, up to the economic-financial p
 erformance of operators\, and includes an updated examination of the tende
 r documentation. A specific focus is dedicated to the theme of recycling c
 hains and energy recovery of the unsorted fraction\, fundamental elements 
 to guarantee the closure of the waste cycle.
LAST-MODIFIED;VALUE=DATE-TIME:20250520T080924Z
LOCATION:Napoli
URL:https://www.isprambiente.gov.it/en/news/green-book-2025-data-on-waste-
 management-in-italy
END:VEVENT
END:VCALENDAR
