BEGIN:VCALENDAR
VERSION:2.0
PRODID:-//Plone.org//NONSGML plone.app.event//EN
X-WR-TIMEZONE:Europe/Berlin
BEGIN:VEVENT
SUMMARY:Green Economy Festival
DTSTART;VALUE=DATE:20240405
DTEND;VALUE=DATE:20240408
DTSTAMP;VALUE=DATE-TIME:20260423T074855Z
UID:f28598815c2049bc81e62135265dccc0@www.isprambiente.gov.it
CREATED;VALUE=DATE-TIME:20240320T211209Z
DESCRIPTION:The Green Economy Festival will be held in Parma from 5 to 7 A
 pril. On 5 April in the session "Climate change and adaptation in the Po r
 iver basin" an ISPRA researcher will speak on "The climate in Italy: preci
 pitation and water resources\, what is happening?"
LAST-MODIFIED;VALUE=DATE-TIME:20240321T084311Z
LOCATION:Parma
URL:https://www.isprambiente.gov.it/en/news/green-economy-festival
END:VEVENT
END:VCALENDAR
