BEGIN:VCALENDAR
VERSION:2.0
PRODID:-//Plone.org//NONSGML plone.app.event//EN
X-WR-TIMEZONE:Europe/Berlin
BEGIN:VEVENT
SUMMARY:Hydrological measurement in the Italian Northeast
DTSTART;VALUE=DATE:20240530
DTEND;VALUE=DATE:20240531
DTSTAMP;VALUE=DATE-TIME:20260423T061609Z
UID:7d76d4a844774982bb1de88463cbfac4@www.isprambiente.gov.it
CREATED;VALUE=DATE-TIME:20240527T100423Z
DESCRIPTION:Hydrological measurement has taken on ever greater importance 
 in activities and studies in ever more extensive fields\, from climate res
 earch to applications in the environmental field. For these reasons\, the 
 Venetian Section of the Italian Hydrotechnical Association and the Regiona
 l Agency for Environmental Prevention and Protection of the Veneto Region 
 - ARPAV\, deemed it appropriate to organize a Study Day on the topic of "H
 ydrological measurement in the Northeast" aimed at deepening knowledge and
  the evolution prospects gained in this field\, divided into three session
 s.
LAST-MODIFIED;VALUE=DATE-TIME:20240527T100428Z
LOCATION:University of Padova
URL:https://www.isprambiente.gov.it/en/news/hydrological-measurement-in-th
 e-italian-northeast
END:VEVENT
END:VCALENDAR
