BEGIN:VCALENDAR
VERSION:2.0
PRODID:-//Plone.org//NONSGML plone.app.event//EN
X-WR-TIMEZONE:Europe/Berlin
BEGIN:VEVENT
SUMMARY:ISIA Roma Design Academic Year Inauguration
DTSTART;VALUE=DATE:20260331
DTEND;VALUE=DATE:20260401
DTSTAMP;VALUE=DATE-TIME:20260421T153146Z
UID:80227dd4f4304af8b26edea6349f23a0@www.isprambiente.gov.it
CREATED;VALUE=DATE-TIME:20260331T145015Z
DESCRIPTION:ISIA Roma Design officially inaugurated the 2025-2026 academic
  year today with a morning of meetings and discussions between institution
 s\, professionals\, and the academic community\, held in the Sala Dante of
  the Istituto Centrale per la Grafica in Rome.   At the heart of the initi
 ative is a clear vision: design as a tool for interpreting the present and
  building the future.   "Today we face a great challenge: designing for su
 stainability. It's not enough to measure\, monitor\, and analyze—though 
 fundamental—we also need to design solutions. Design becomes central: it
  guides behaviors\, makes sustainable choices accessible\, and translates 
 complexity into concrete solutions\," said ISPRA President Maria Alessandr
 a Gallone\, speaking at the inauguration.
LAST-MODIFIED;VALUE=DATE-TIME:20260401T090941Z
URL:https://www.isprambiente.gov.it/en/news/isia-roma-design-academic-year
 -inauguration
END:VEVENT
END:VCALENDAR
