BEGIN:VCALENDAR
VERSION:2.0
PRODID:-//Plone.org//NONSGML plone.app.event//EN
X-WR-TIMEZONE:Europe/Berlin
BEGIN:VEVENT
SUMMARY:ISPRA in the Festival Impatta Disrupt
DTSTART;VALUE=DATE:20260413
DTEND;VALUE=DATE:20260416
DTSTAMP;VALUE=DATE-TIME:20260420T133317Z
UID:55e12a1242944f46a702116c05a355e8@www.isprambiente.gov.it
CREATED;VALUE=DATE-TIME:20260330T114519Z
DESCRIPTION:The Innovability Festival   The event officially celebrates th
 e   United Nations World Innovation Day  \, as part of the broader framewo
 rk of Italian   Earth Day   celebrations.   The aim of the initiative is t
 o create an interdisciplinary think tank where scientists\, policymakers\,
  business leaders\, and innovation stakeholders can engage in dialogue to 
 achieve the “green renaissance” called for by the   United Nations    
  2030 Agenda  .   The  Impatta Disrupt Festival  is also designed as an a
 ccredited training module at major national and international academic ins
 titutions.   The entire program is recognized as a training module by the 
 Environmental Specialization School of   ISPRA  \, and each session is org
 anized in collaboration with a university that acknowledges its scientific
  and educational value by including it among its official seminars.   Part
 nerships have been developed with   Sapienza University of Rome  \,   CRES
 T - Centre for Research and Engineering in Space Technologies  \,   LUMSA 
 University  \,   University of Catanzaro Magna Graecia  \,   University of
  Tuscia  \, and   IUL Telematic University  .         Program    ISPRA is 
 participating at the following meetings   13 april    Il capitale naturale
  unica ricchezza dell'economia reale     Sfida demografica e futuro del pa
 tto tra generazioni    14 april    La transizione economica e sociale nece
 ssaria     Comunicazione e digitale acceleratori di una transizione giusta
     15 april    Spazio laboratorio per un'economia senza sprechi     L'Inn
 ovazione Armonica come paradigma di una sostenibilità integrale
LAST-MODIFIED;VALUE=DATE-TIME:20260417T131258Z
LOCATION:Rome\, House of cinema
URL:https://www.isprambiente.gov.it/en/news/ispra-in-the-festival-impatta-
 disrupt
END:VEVENT
END:VCALENDAR
