BEGIN:VCALENDAR
VERSION:2.0
PRODID:-//Plone.org//NONSGML plone.app.event//EN
X-WR-TIMEZONE:Europe/Berlin
BEGIN:VEVENT
SUMMARY:ISPRA in the Villaggio per la Terra
DTSTART;VALUE=DATE:20260416
DTEND;VALUE=DATE:20260420
DTSTAMP;VALUE=DATE-TIME:20260420T084414Z
UID:dad24f75bc2f45e59aa6133e39ff9bfd@www.isprambiente.gov.it
CATEGORIES:highlight
CREATED;VALUE=DATE-TIME:20260330T120324Z
DESCRIPTION:The event\, organized by   Fondazione Earth Day Italy   to ce
 lebrate the 56th   Earth Day   of the   United Nations  \, will take place
  in   Rome   from April 16 to 19.   Four days of celebration open to every
 one\, featuring over 600 free events and 250 participating organizations. 
 The evocative setting of   Villa Borghese   will be transformed into a vib
 rant stage for sports\, cultural\, and artistic activities. More than thir
 ty sports will be available to try\, along with workshops offered by the c
 ountry’s leading research institutes\, and 17 themed areas dedicated to 
 the goals of the   2030 Agenda  \, animated by dozens of organizations.   
 There will also be concerts\, live events\, talks\, and DJ sets between th
 e   Galoppatoio di Villa Borghese   and the   Terrazza del Pincio  \, wher
 e a green crafts market will also be set up.
LAST-MODIFIED;VALUE=DATE-TIME:20260420T055058Z
LOCATION:Rome\, Terrazza del Pincio and Galoppatoio of Villa Borghese
URL:https://www.isprambiente.gov.it/en/news/ispra-in-the-villaggio-per-la-
 terra
END:VEVENT
END:VCALENDAR
