BEGIN:VCALENDAR
VERSION:2.0
PRODID:-//Plone.org//NONSGML plone.app.event//EN
X-WR-TIMEZONE:Europe/Berlin
BEGIN:VEVENT
SUMMARY:Italy reconfirmed in Category A of the IMO Council with the highes
 t number of votes: a result of outstanding international significance
DTSTART;VALUE=DATE:20251124
DTEND;VALUE=DATE:20251204
DTSTAMP;VALUE=DATE-TIME:20260420T203008Z
UID:a67fca2e93b14810ac4ed9a4e75c3171@www.isprambiente.gov.it
CREATED;VALUE=DATE-TIME:20251203T093843Z
DESCRIPTION:During the 34th Assembly of the  International Maritime Organi
 zation (IMO) \, held in London from 24 November to Wednesday\, 3 December\
 , the voting for the election of the new members of the Organization’s C
 ouncil for the current two-year term concluded on Friday\, 28 November.   
 According to the Assembly’s rules\, 169 out of 176 States were eligible 
 to vote.   Italy achieved a result of exceptional significance\, having be
 en reconfirmed in Category A— which includes the ten States with the gre
 atest interest in international maritime transport— with 155 votes\, equ
 al to about 91.7% of the total number of States eligible to vote.
LAST-MODIFIED;VALUE=DATE-TIME:20251217T072723Z
LOCATION:London
URL:https://www.isprambiente.gov.it/en/news/italy-reconfirmed-in-category-
 a-of-the-imo-council-with-the-highest-number
END:VEVENT
END:VCALENDAR
