BEGIN:VCALENDAR
VERSION:2.0
PRODID:-//Plone.org//NONSGML plone.app.event//EN
X-WR-TIMEZONE:Europe/Berlin
BEGIN:VEVENT
SUMMARY:Life Conceptu Maris and A Ship of Books for Barcelona
DTSTART;VALUE=DATE:20250405
DTEND;VALUE=DATE:20250411
DTSTAMP;VALUE=DATE-TIME:20260423T110035Z
UID:210fb7397a2244d3b42bf938fdded3b5@www.isprambiente.gov.it
CREATED;VALUE=DATE-TIME:20250401T085535Z
DESCRIPTION:On April 5\, the scientists of the  Life Conceptu Maris projec
 t  will depart from Civitavecchia for Barcelona. This time\, in addition t
 o the usual monitoring of cetaceans and turtles\, there will also be momen
 ts of scientific dissemination on board. The occasion is the event La Nave
  dei Libri (The Ship of Books)\, which brings readers and writers on board
 \, bringing them together. During the crossing on April 6\, the Italian st
 udents on board and the five European school delegations of the Erasmus+ "
 Desibook" project from Bulgaria\, Greece\, Italy\, Spain and Turkey will h
 ave the opportunity to meet the researchers on the passenger deck and lear
 n how to spot dolphins\, whales and sea turtles\, directly overlooking the
  sea.
LAST-MODIFIED;VALUE=DATE-TIME:20250409T060913Z
URL:https://www.isprambiente.gov.it/en/news/life-conceptu-maris-and-a-ship
 -of-books-for-barcelona
END:VEVENT
END:VCALENDAR
