BEGIN:VCALENDAR
VERSION:2.0
PRODID:-//Plone.org//NONSGML plone.app.event//EN
X-WR-TIMEZONE:Europe/Berlin
BEGIN:VEVENT
SUMMARY:Manta River Project 2\, final event
DTSTART;VALUE=DATE:20241025
DTEND;VALUE=DATE:20241026
DTSTAMP;VALUE=DATE-TIME:20260423T043206Z
UID:b8b1dfa3f81c444b95141d96f2579a33@www.isprambiente.gov.it
CREATED;VALUE=DATE-TIME:20241018T141716Z
DESCRIPTION:The final event of the " Manta River Project 2 " project will 
 be held on Friday 25 October 2024\, which involves the presentation of the
  results of the studies for the evaluation of the quantities of microplast
 ics in the Po river. The presentation of the project results is organized 
 by Adbpo\, Arpae Emilia-Romagna and Sapienza University of Rome.   A round
  table will follow to discuss and bring to attention the problem of microp
 lastic pollution in river water bodies\, in the presence of ISPRA\, ISS\, 
 Legambiente\, Federchimica PlasticsEurope Italia\, and Corepla.
LAST-MODIFIED;VALUE=DATE-TIME:20241018T141720Z
URL:https://www.isprambiente.gov.it/en/news/manta-river-project-2-final-ev
 ent
END:VEVENT
END:VCALENDAR
