BEGIN:VCALENDAR
VERSION:2.0
PRODID:-//Plone.org//NONSGML plone.app.event//EN
X-WR-TIMEZONE:Europe/Berlin
BEGIN:VEVENT
SUMMARY:Marine pollution caused by the dumping of wastes and other matter 
 from ships and aircraft
DTSTART;VALUE=DATE:20240415
DTEND;VALUE=DATE:20240420
DTSTAMP;VALUE=DATE-TIME:20260423T201358Z
UID:0148ba1534c540bca7e919797f7bbdd6@www.isprambiente.gov.it
CREATED;VALUE=DATE-TIME:20240429T104150Z
DESCRIPTION:ISPRA continues in the collaboration for the implementation of
  the London Convention and the 1996 Protocol on the prevention of marine p
 ollution caused by the dumping of wastes and other matter.
LAST-MODIFIED;VALUE=DATE-TIME:20240510T124100Z
LOCATION:London
URL:https://www.isprambiente.gov.it/en/news/marine-pollution-caused-by-the
 -release-of-substances-and-waste-from-ships-and-aircraft
END:VEVENT
END:VCALENDAR
