BEGIN:VCALENDAR
VERSION:2.0
PRODID:-//Plone.org//NONSGML plone.app.event//EN
X-WR-TIMEZONE:Europe/Berlin
BEGIN:VEVENT
SUMMARY:Memorandum of Understanding between ISPRA and the Po River Basin A
 uthority to deepen the hydrogeological knowledge of the territory
DTSTART;VALUE=DATE:20250403
DTEND;VALUE=DATE:20250404
DTSTAMP;VALUE=DATE-TIME:20260423T030453Z
UID:2c2e726676714af0bf869fc66c53fc97@www.isprambiente.gov.it
CREATED;VALUE=DATE-TIME:20250407T094241Z
DESCRIPTION:The President of ISPRA Stefano Laporta and the Secretary Gener
 al of the Po River District Basin Authority Alessandro Bratti have signed 
 a memorandum of understanding\, lasting five years. The collaboration\, ai
 med at deepening and experimenting with scientifically complex issues in t
 he Po River district\, also includes actions necessary for an effective us
 e of resources and for the subsequent adoption of a shared strategy\, with
 in the scope of the respective institutional competences.
LAST-MODIFIED;VALUE=DATE-TIME:20250430T072638Z
URL:https://www.isprambiente.gov.it/en/news/memorandum-of-understanding-be
 tween-ispra-and-the-po-river-basin-authority-to-deepen-the-hydrogeological
 -knowledge-of-the-territory
END:VEVENT
END:VCALENDAR
