BEGIN:VCALENDAR
VERSION:2.0
PRODID:-//Plone.org//NONSGML plone.app.event//EN
X-WR-TIMEZONE:Europe/Berlin
BEGIN:VEVENT
SUMMARY:Peace with Nature: Research\, Organizations and Institutions toget
 her
DTSTART;TZID=Europe/Berlin;VALUE=DATE-TIME:20250318T090000
DTEND;TZID=Europe/Berlin;VALUE=DATE-TIME:20250318T130000
DTSTAMP;VALUE=DATE-TIME:20260423T152239Z
UID:882dd11ab00d4e73be2a1f920fa0e819@www.isprambiente.gov.it
CREATED;VALUE=DATE-TIME:20250306T125430Z
DESCRIPTION:Thanks to its strategic position in the Mediterranean\, its va
 ried geomorphology and the extraordinary diversity of habitats\, Italy is 
 the European country with the greatest variety of living species and the h
 ighest rate of endemic species.   Furthermore\, Italy is one of the few na
 tions in the world to have established the defense of biodiversity as a fu
 ndamental principle in its Constitution. In February 2022\, in fact\, the 
 Constitutional Law of 11 February 2022\, no. 1 was approved by Parliament\
 , which recognizes an express importance to the protection of the environm
 ent\, biodiversity and ecosystems in the part dedicated to Fundamental Pri
 nciples.   The contemporary challenges presented by the biodiversity crisi
 s\, which include efforts to address the direct factors that are at the ro
 ot of the crisis itself\, such as the destruction and degradation of habit
 ats\, the excessive extraction of biological resources\, pollution\, invas
 ive alien species and climate change\, transcend national borders.
LAST-MODIFIED;VALUE=DATE-TIME:20250319T111453Z
LOCATION:Rome\, Orto Botanico
URL:https://www.isprambiente.gov.it/en/news/peace-with-nature-research-org
 anizations-and-institutions-together
END:VEVENT
BEGIN:VTIMEZONE
TZID:Europe/Berlin
X-LIC-LOCATION:Europe/Berlin
BEGIN:STANDARD
DTSTART;VALUE=DATE-TIME:20241027T020000
TZNAME:CET
TZOFFSETFROM:+0200
TZOFFSETTO:+0100
END:STANDARD
END:VTIMEZONE
END:VCALENDAR
