BEGIN:VCALENDAR
VERSION:2.0
PRODID:-//Plone.org//NONSGML plone.app.event//EN
X-WR-TIMEZONE:Europe/Berlin
BEGIN:VEVENT
SUMMARY:Posidonia Friend
DTSTART;VALUE=DATE:20240412
DTEND;VALUE=DATE:20240622
DTSTAMP;VALUE=DATE-TIME:20260421T130950Z
UID:de88c7e84d68417bb39a22073c1f3b31@www.isprambiente.gov.it
CREATED;VALUE=DATE-TIME:20240408T093635Z
DESCRIPTION:The municipality of San Vincenzo (LI) is also promoting a proj
 ect this year on the theme of environment and sustainability which has Pos
 idonia as its protagonist\, a marine plant that is very present along the 
 Tuscan coasts and of fundamental importance for the marine ecosystem. The 
 events will start on Friday 12 April with researchers from the ISPRA headq
 uarters in Livorno who will hold a lesson dedicated to middle school stude
 nts\, and will end on 21 June with an evening open to all: the protagonist
  will always be Posidonia\, a plant to get to know and protect
LAST-MODIFIED;VALUE=DATE-TIME:20240408T102317Z
URL:https://www.isprambiente.gov.it/en/news/posidonia-friend
END:VEVENT
END:VCALENDAR
