BEGIN:VCALENDAR
VERSION:2.0
PRODID:-//Plone.org//NONSGML plone.app.event//EN
X-WR-TIMEZONE:Europe/Berlin
BEGIN:VEVENT
SUMMARY:Presentation of the book "Drought\, scarcity and water crises - Th
 e contribution of research to support the definition of the water balance"
DTSTART;TZID=Europe/Berlin;VALUE=DATE-TIME:20241206T140000
DTEND;TZID=Europe/Berlin;VALUE=DATE-TIME:20241206T190000
DTSTAMP;VALUE=DATE-TIME:20260423T062137Z
UID:7d9972ba460b466eac96e1d95322a40f@www.isprambiente.gov.it
CREATED;VALUE=DATE-TIME:20241122T114246Z
DESCRIPTION:On 6 December\, as part of the "Più Libri Più Liberi" event\
 , at the CNR editions stand\, there will be the presentation of the volume
  "Drought\, scarcity and water crises - The contribution of research to su
 pport the definition of the water balance"\, published by CNR edizioni\, t
 o which ISPRA also contributed by drafting Chapter 1 "The hydrological bal
 ance\, the availability of water resources and the water balance"\, the pa
 ragraph dedicated to the "Water balance and water stress" and the part rel
 ating to state of the climate. The preface of the book is signed by ISPRA 
 President Stefano Laporta.
LAST-MODIFIED;VALUE=DATE-TIME:20241122T114307Z
LOCATION:Rome\, Centro congressi La Nuvola
URL:https://www.isprambiente.gov.it/en/news/presentation-of-the-book-droug
 ht-scarcity-and-water-crises-the-contribution-of-research
END:VEVENT
BEGIN:VTIMEZONE
TZID:Europe/Berlin
X-LIC-LOCATION:Europe/Berlin
BEGIN:STANDARD
DTSTART;VALUE=DATE-TIME:20241027T020000
TZNAME:CET
TZOFFSETFROM:+0200
TZOFFSETTO:+0100
END:STANDARD
END:VTIMEZONE
END:VCALENDAR
