BEGIN:VCALENDAR
VERSION:2.0
PRODID:-//Plone.org//NONSGML plone.app.event//EN
X-WR-TIMEZONE:Europe/Berlin
BEGIN:VEVENT
SUMMARY:Presentation of the results of the participatory monitoring of the
  Aniene River
DTSTART;TZID=Europe/Berlin;VALUE=DATE-TIME:20250117T160000
DTEND;TZID=Europe/Berlin;VALUE=DATE-TIME:20250117T180000
DTSTAMP;VALUE=DATE-TIME:20260423T063239Z
UID:2bf56f0f721e4bd4956927918102a89b@www.isprambiente.gov.it
CREATED;VALUE=DATE-TIME:20250114T095903Z
DESCRIPTION:During the meeting\, the results of the monitoring activities 
 which involved citizens\, students and experts will be illustrated\, colle
 cting data on the ecological and chemical state of the waters of the Anien
 e river.   Ispra will participate with a report on  #teveremolluschifanta
 stici…e dove trovarli \, the project the participatory science project 
 for water quality and the conservation of river biodiversity\; the project
  included in the portal of the  National Biodiversity Network \, maps the 
 presence and distribution of freshwater molluscs\, both native and non-nat
 ive\, within the Tevere river basin.
LAST-MODIFIED;VALUE=DATE-TIME:20250117T085227Z
LOCATION:Rome\, Palazzo Valentini\, Aula David Sassoli
URL:https://www.isprambiente.gov.it/en/news/presentation-of-the-results-of
 -the-participatory-monitoring-of-the-aniene-river
END:VEVENT
BEGIN:VTIMEZONE
TZID:Europe/Berlin
X-LIC-LOCATION:Europe/Berlin
BEGIN:STANDARD
DTSTART;VALUE=DATE-TIME:20241027T020000
TZNAME:CET
TZOFFSETFROM:+0200
TZOFFSETTO:+0100
END:STANDARD
END:VTIMEZONE
END:VCALENDAR
