BEGIN:VCALENDAR
VERSION:2.0
PRODID:-//Plone.org//NONSGML plone.app.event//EN
X-WR-TIMEZONE:Europe/Berlin
BEGIN:VEVENT
SUMMARY:Presentation UNRIMA 2025 report
DTSTART;VALUE=DATE:20251021
DTEND;VALUE=DATE:20251022
DTSTAMP;VALUE=DATE-TIME:20260420T200023Z
UID:12f5e020e61b4e40b44d49c2f63f5463@www.isprambiente.gov.it
CREATED;VALUE=DATE-TIME:20251015T153518Z
DESCRIPTION:The presentation of the UNIRIMA 2025 Report "Raw Material Prod
 uction – End of Waste from Separate Paper and Cardboard Collection" will
  take place on Tuesday\, October 21\, 2025\, starting at 9:30 a.m. in Rome
 . The UNIRIMA report\, now in its eighth edition\, aims to provide an over
 view of the waste paper collection\, recovery\, recycling\, and trade sect
 or. It includes data\, insights into the economic aspects\, and an overvie
 w of international scenarios updated to September 2025. This is a historic
  sector of the Italian green industry\, which contributes significantly to
  achieving our country's recycling targets.
LAST-MODIFIED;VALUE=DATE-TIME:20251015T153522Z
LOCATION:Rome\, Palazzo Wedekind (Piazza Colonna 366)
URL:https://www.isprambiente.gov.it/en/news/presentation-unrima-2025-repor
 t
END:VEVENT
END:VCALENDAR
