BEGIN:VCALENDAR
VERSION:2.0
PRODID:-//Plone.org//NONSGML plone.app.event//EN
X-WR-TIMEZONE:Europe/Berlin
BEGIN:VEVENT
SUMMARY:Protect cultural heritage from hydroclimatic extreme events: learn
 ings from Africa and Balkans
DTSTART;TZID=Europe/Berlin;VALUE=DATE-TIME:20250903T133000
DTEND;TZID=Europe/Berlin;VALUE=DATE-TIME:20250903T153000
DTSTAMP;VALUE=DATE-TIME:20260423T074947Z
UID:8eb2f324568a4a2c8907388d19d618d8@www.isprambiente.gov.it
CREATED;VALUE=DATE-TIME:20250902T081956Z
DESCRIPTION:Stakeholders\, experts\, researchers\, and students in the fie
 ld of the Water(hydro)-Climate-Cultural Heritage Nexus will discuss innova
 tive and concrete strategies to protect cultural and natural heritage from
  the growing impacts of climate change and\, in particular\, from extreme 
 hydro-climatic events such as storms\, floods\, and droughts. The discussi
 on will explore how this challenge of protecting cultural and natural heri
 tage from extreme events affects communities in Europe and Africa\, throug
 h the presentation of case studies from the Balkans and African regions\, 
 and will reflect on possible actions to be taken to strengthen resilience 
 on this issue.
LAST-MODIFIED;VALUE=DATE-TIME:20250904T164049Z
LOCATION:University of Évora\, Portugal
URL:https://www.isprambiente.gov.it/en/news/protect-cultural-heritage-from
 -hydroclimatic-extreme-events-learnings-from-africa-and-balkans
END:VEVENT
BEGIN:VTIMEZONE
TZID:Europe/Berlin
X-LIC-LOCATION:Europe/Berlin
BEGIN:DAYLIGHT
DTSTART;VALUE=DATE-TIME:20250330T030000
TZNAME:CEST
TZOFFSETFROM:+0100
TZOFFSETTO:+0200
END:DAYLIGHT
END:VTIMEZONE
END:VCALENDAR
