BEGIN:VCALENDAR
VERSION:2.0
PRODID:-//Plone.org//NONSGML plone.app.event//EN
X-WR-TIMEZONE:Europe/Berlin
BEGIN:VEVENT
SUMMARY:Race for the cure 2026
DTSTART;VALUE=DATE:20260507
DTEND;VALUE=DATE:20260511
DTSTAMP;VALUE=DATE-TIME:20260422T202840Z
UID:5c46c6827cfd4f099ad1469e55a8764c@www.isprambiente.gov.it
CREATED;VALUE=DATE-TIME:20260401T090747Z
DESCRIPTION:From Thursday\, May 7 to Sunday\, May 10\, 2026\,   Rome   wil
 l once again host the largest event dedicated to the prevention and fight 
 against breast cancer: the   Race for the Cure  \, organized by   Susan G.
  Komen Italia  .   The event\, which will take place at the   Circus Maxim
 us  \, will feature four full days of activities and initiatives aimed at 
 raising awareness and promoting health and well-being.   During the same d
 ays\, the Health Village will be open\, offering free preventive screening
 s and workshops to encourage healthy lifestyles.
LAST-MODIFIED;VALUE=DATE-TIME:20260422T122419Z
LOCATION:Rome
URL:https://www.isprambiente.gov.it/en/news/race-for-the-cure-2026
END:VEVENT
END:VCALENDAR
